BEGIN:VCALENDAR
VERSION:2.0
PRODID:-//Kurs King - ECPv6.15.20//NONSGML v1.0//EN
CALSCALE:GREGORIAN
METHOD:PUBLISH
X-ORIGINAL-URL:https://kursking.de
X-WR-CALDESC:Veranstaltungen für Kurs King
REFRESH-INTERVAL;VALUE=DURATION:PT1H
X-Robots-Tag:noindex
X-PUBLISHED-TTL:PT1H
BEGIN:VTIMEZONE
TZID:Europe/Berlin
BEGIN:DAYLIGHT
TZOFFSETFROM:+0100
TZOFFSETTO:+0200
TZNAME:CEST
DTSTART:20210328T010000
END:DAYLIGHT
BEGIN:STANDARD
TZOFFSETFROM:+0200
TZOFFSETTO:+0100
TZNAME:CET
DTSTART:20211031T010000
END:STANDARD
BEGIN:DAYLIGHT
TZOFFSETFROM:+0100
TZOFFSETTO:+0200
TZNAME:CEST
DTSTART:20220327T010000
END:DAYLIGHT
BEGIN:STANDARD
TZOFFSETFROM:+0200
TZOFFSETTO:+0100
TZNAME:CET
DTSTART:20221030T010000
END:STANDARD
BEGIN:DAYLIGHT
TZOFFSETFROM:+0100
TZOFFSETTO:+0200
TZNAME:CEST
DTSTART:20230326T010000
END:DAYLIGHT
BEGIN:STANDARD
TZOFFSETFROM:+0200
TZOFFSETTO:+0100
TZNAME:CET
DTSTART:20231029T010000
END:STANDARD
END:VTIMEZONE
BEGIN:VEVENT
DTSTART;TZID=Europe/Berlin:20220113T200000
DTEND;TZID=Europe/Berlin:20220113T200000
DTSTAMP:20260423T123541
CREATED:20220111T201920Z
LAST-MODIFIED:20220111T222220Z
UID:3353-1642104000-1642104000@kursking.de
SUMMARY:Marketing Automation als Berater Januar 2022
DESCRIPTION:Marketing Automation als Berater Januar 2022\nMarketing Automation als Berater Januar 2022 \nTausende zahlungskräftige Unternehmen suchen heute nach Hilfe bei der Gewinnung von Interessenten-Leads und Kunden über das Internet. Ich zeige Ihnen\, wie Sie mit dem Quentn Beraterprogramm und 3 einfachen Geschäftsideen Ihren Teil dieses Milliarden-Marktes einstreichen. \nLIVE-Webinar am Donnerstag den 13.01.2021 um 20 Uhr\nMarketing Automation als Berater Januar 2022\nMarketing Automation als Berater Januar 2022\nQuentn ist eine B2B-Software für ein effektives Internet-Marketing bei höchster Benutzerfreundlichkeit \nE-Mail-Marketing\, Automation\, Landingpages\, CRM\, Video-Tracking … \nQuentn macht das mit Exzellenz! \n  \nDer Wettbewerb im Online-Marketing wird größer. Wir von Quentn.com bieten kleinen und mittleren Unternehmen eine Lösung im harten Wettbewerb zu bestehen und zu wachsen\, das bei weniger Werbeausgaben. \n  \nIm Rahmen unseres Beraterprogramms arbeiten wir mit selbständigen Unternehmer:innen zusammen\, denen wir eine umfassende Ausbildung geben. \n  \nIm Rahmen unseres neuen Webinars zeigen wir: \n  \nWie Online-Marketing mit Quentn funktioniert \nWie man Kunden gewinnt für Beratungen\, bei denen die Einnahmen zu 100 % beim Berater bzw. der Beraterin bleiben \nWie Sie als zertifizierter Quentn-Berater für Marketing Automation durch die Vermittlung von Quentn-Accounts wiederkehrende Provisionen verdient und sich schnell ein stabiles „Grundrauschen“ aufgebaut hat \nMarketing Automation als Berater Januar 2022 \n \n 
URL:https://kursking.de/event/marketing-automation-als-berater-januar-2022/
LOCATION:bei dir daheim
CATEGORIES:Online Marketing
END:VEVENT
END:VCALENDAR